BEGIN:VCALENDAR
VERSION:2.0
PRODID:-//Library Market//iCal Export//EN
BEGIN:VEVENT
SUMMARY:The Daytripper&#039;s Concert
UID:17308
DTSTAMP:20260420T135500Z
DTSTART:20260606T170000Z
DTEND:20260606T183000Z
LOCATION:Mattituck Laurel Library, 13900 Main Road, Mattituck, NY 11971, U
 nited States
ROOM: The Daytripper&#039;s Concert
DESCRIPTION:Join us for a spectacular live performance by The Day Trippers
 ! Experience The Beatles&#039; greatest hits, from early classics to their
  later, more complex works. Along the way, The Day Trippers will share ins
 ights into what makes each tune special and how The Beatles&#039; sound ev
 olved over the years. This concert will be held outdoors in Mattituck-Laur
 el Library’s greenspace; in the event of inclement weather, it will be m
 oved indoors. Registration required. Co-sponsored by the Friends of the So
 uthold Free Library. Please Bring a chair and dress accordingly.
URL:https://events.southoldlibrary.org/event/daytrippers-concert-17308
END:VEVENT
END:VCALENDAR
