BEGIN:VCALENDAR
VERSION:2.0
PRODID:-//Library Market//iCal Export//EN
BEGIN:VEVENT
SUMMARY:North Fork Fireworks
UID:17361
DTSTAMP:20260422T141400Z
DTSTART:20260609T213000Z
DTEND:20260609T233000Z
LOCATION:Southold Free Library, 53705 Main Rd., Southold, NY 11971, United
  States
ROOM: Community Room
DESCRIPTION:Painting this Fourth of July scene with Darlene will be a blas
 t.Dress for a mess. No experience required.
URL:https://events.southoldlibrary.org/event/fireworks-painting-17361
END:VEVENT
END:VCALENDAR
