BEGIN:VCALENDAR
VERSION:2.0
PRODID:-//Library Market//iCal Export//EN
BEGIN:VEVENT
SUMMARY:American Flag Tray
UID:18208
DTSTAMP:20260420T135500Z
DTSTART:20260617T143000Z
DTEND:20260617T170000Z
LOCATION:Southold Free Library, 53705 Main Rd., Southold, NY 11971, United
  States
ROOM: Community Room
DESCRIPTION:The special American Flag project offers a meaningful opportun
 ity to reflect on history, freedom, and personal expression through art in
  celebration of America 250.
URL:https://events.southoldlibrary.org/event/flag-tray-18208
END:VEVENT
END:VCALENDAR
